BEGIN:VCALENDAR
VERSION:2.0
PRODID:-//Sentieri Sciamanici - ECPv6.15.11//NONSGML v1.0//EN
CALSCALE:GREGORIAN
METHOD:PUBLISH
X-WR-CALNAME:Sentieri Sciamanici
X-ORIGINAL-URL:https://www.sentierisciamanici.it
X-WR-CALDESC:Eventi per Sentieri Sciamanici
REFRESH-INTERVAL;VALUE=DURATION:PT1H
X-Robots-Tag:noindex
X-PUBLISHED-TTL:PT1H
BEGIN:VTIMEZONE
TZID:Europe/Rome
BEGIN:DAYLIGHT
TZOFFSETFROM:+0100
TZOFFSETTO:+0200
TZNAME:CEST
DTSTART:20240331T010000
END:DAYLIGHT
BEGIN:STANDARD
TZOFFSETFROM:+0200
TZOFFSETTO:+0100
TZNAME:CET
DTSTART:20241027T010000
END:STANDARD
BEGIN:DAYLIGHT
TZOFFSETFROM:+0100
TZOFFSETTO:+0200
TZNAME:CEST
DTSTART:20250330T010000
END:DAYLIGHT
BEGIN:STANDARD
TZOFFSETFROM:+0200
TZOFFSETTO:+0100
TZNAME:CET
DTSTART:20251026T010000
END:STANDARD
BEGIN:DAYLIGHT
TZOFFSETFROM:+0100
TZOFFSETTO:+0200
TZNAME:CEST
DTSTART:20260329T010000
END:DAYLIGHT
BEGIN:STANDARD
TZOFFSETFROM:+0200
TZOFFSETTO:+0100
TZNAME:CET
DTSTART:20261025T010000
END:STANDARD
END:VTIMEZONE
BEGIN:VEVENT
DTSTART;TZID=Europe/Rome:20251119T204500
DTEND;TZID=Europe/Rome:20251119T220000
DTSTAMP:20260424T005225
CREATED:20250924T125327Z
LAST-MODIFIED:20251120T130735Z
UID:1301-1763585100-1763589600@www.sentierisciamanici.it
SUMMARY:La voce degli Antenati
DESCRIPTION:Il Viaggio Sciamanico è un Sacro rito che grazie al suono del tamburo ci conduce in una modalità meditativa che consente l’accesso a piani di realtà non ordinari. Esso\, pertanto\, grazie al ritmo costante del tamburo\, consente di effettuare un percorso iniziatico ed evolutivo\, attraverso i paesaggi interiori dell’Anima. In questo tempo di Samhain avremo la possibilità di attraversare la soglia che ci consentirà di contattare i nostri Antenati\, ascoltare le loro voci e chiedere indicazioni per il nostro cammino \n\n\n\nPer info e prenotazioni: Gloria 339 4313412\, Irene 055 5381906 – 370 3143173
URL:https://www.sentierisciamanici.it/evento/test-02/
LOCATION:Erboristeria Settesemi\, Via Senese 221R-223R\, Galluzzo\, Firenze\, FI\, Italy
ATTACH;FMTTYPE=image/jpeg:https://www.sentierisciamanici.it/wp-content/uploads/2017/01/15871687_229982227444054_3125902361628901747_n.jpg
END:VEVENT
END:VCALENDAR