BEGIN:VCALENDAR
VERSION:2.0
PRODID:-//Sentieri Sciamanici - ECPv6.15.11//NONSGML v1.0//EN
CALSCALE:GREGORIAN
METHOD:PUBLISH
X-WR-CALNAME:Sentieri Sciamanici
X-ORIGINAL-URL:https://www.sentierisciamanici.it
X-WR-CALDESC:Eventi per Sentieri Sciamanici
REFRESH-INTERVAL;VALUE=DURATION:PT1H
X-Robots-Tag:noindex
X-PUBLISHED-TTL:PT1H
BEGIN:VTIMEZONE
TZID:Europe/Rome
BEGIN:DAYLIGHT
TZOFFSETFROM:+0100
TZOFFSETTO:+0200
TZNAME:CEST
DTSTART:20250330T010000
END:DAYLIGHT
BEGIN:STANDARD
TZOFFSETFROM:+0200
TZOFFSETTO:+0100
TZNAME:CET
DTSTART:20251026T010000
END:STANDARD
BEGIN:DAYLIGHT
TZOFFSETFROM:+0100
TZOFFSETTO:+0200
TZNAME:CEST
DTSTART:20260329T010000
END:DAYLIGHT
BEGIN:STANDARD
TZOFFSETFROM:+0200
TZOFFSETTO:+0100
TZNAME:CET
DTSTART:20261025T010000
END:STANDARD
BEGIN:DAYLIGHT
TZOFFSETFROM:+0100
TZOFFSETTO:+0200
TZNAME:CEST
DTSTART:20270328T010000
END:DAYLIGHT
BEGIN:STANDARD
TZOFFSETFROM:+0200
TZOFFSETTO:+0100
TZNAME:CET
DTSTART:20271031T010000
END:STANDARD
END:VTIMEZONE
BEGIN:VEVENT
DTSTART;TZID=Europe/Rome:20260202T203000
DTEND;TZID=Europe/Rome:20260202T223000
DTSTAMP:20260423T211351
CREATED:20260129T173212Z
LAST-MODIFIED:20260129T173214Z
UID:1742-1770064200-1770071400@www.sentierisciamanici.it
SUMMARY:VIAGGIO SCIAMANICO - I PORTALI DEL TEMPO: IMBOLC
DESCRIPTION:Un ciclo di Viaggio Sciamanici dedicati ai Portali della Ruota del Tempo e alla loro eredità spirituale nell’Antica Europa.Ogni incontro esplorerà uno dei grandi temi dell’esperienza umana: lavoro e collocazione sociale\, relazione e affetti\, progetti e sogni\, Antenati ed eredità. Attraverso la formulazione di un intento personale\, i partecipanti intraprenderanno il proprio Viaggio\, interrogando Spiriti e Guide sulle energie in movimento\, sugli ostacoli e sui punti di forza da sviluppare.La serata si concluderà con un momento di condivisione e con l’estrazione di una carta personale\, a sostegno del tema emerso e dell’atteggiamento necessario alla sua realizzazione.Evento con contributo\, posti limitati\, gradita la prenotazione.🙏🏻❤️ \n\n\n\nPer info e prenotazioni:Monica Cuore in Viaggio: 3384548598
URL:https://www.sentierisciamanici.it/evento/viaggio-sciamanico-i-portali-del-tempo-imbolc/
LOCATION:Studio Olistico La porta del Cuore\, Via Martiri del Padule 50\, Lamporecchio\, Italy
ATTACH;FMTTYPE=image/jpeg:https://www.sentierisciamanici.it/wp-content/uploads/2026/01/WhatsApp-Image-2026-01-28-at-19.54.32.jpeg
END:VEVENT
BEGIN:VEVENT
DTSTART;TZID=Europe/Rome:20260302T210000
DTEND;TZID=Europe/Rome:20260302T230000
DTSTAMP:20260423T211351
CREATED:20260224T085945Z
LAST-MODIFIED:20260224T085947Z
UID:1754-1772485200-1772492400@www.sentierisciamanici.it
SUMMARY:VISUALIZZAZIONE CREATIVA.
DESCRIPTION:Il potere dell’immaginazione consapevole. \n\n\n\n\n\nChiarisci i tuoi obiettivi.Potenzia la motivazione.Favorisci cambiamento e benessere.Incontro online gratuitoPer info e prenotazioni: casaruota@gmail.com
URL:https://www.sentierisciamanici.it/evento/visualizzazione-creativa/
CATEGORIES:Il Risveglio interiore
ATTACH;FMTTYPE=image/jpeg:https://www.sentierisciamanici.it/wp-content/uploads/2026/02/WhatsApp-Image-2026-02-24-at-09.52.30.jpeg
END:VEVENT
BEGIN:VEVENT
DTSTART;TZID=Europe/Rome:20260314T204500
DTEND;TZID=Europe/Rome:20260314T230000
DTSTAMP:20260423T211351
CREATED:20260304T084625Z
LAST-MODIFIED:20260304T084627Z
UID:1796-1773521100-1773529200@www.sentierisciamanici.it
SUMMARY:MEDITAZIONE SONORA - Celebrazione di Ostara
DESCRIPTION:Nel tempo dell’equilibrio tra luce e ombra celebriamo Ostara\, la festa del risveglio della Terra. \n\n\n\nGrazie a vibrazioni e suoni armonici potremmo rilassare la mente\, riequilibrare il corpo e ritrovare il proprio centro. Un momento per seminare intenzioni\, rinnovare energie e accogliere la primavera nel cuore.
URL:https://www.sentierisciamanici.it/evento/meditazione-sonora-celebrazione-di-ostara/
LOCATION:Sharda\, Via O. Chiesa\, 5/7\, Rosignano Solvay\, Italia\, Italy
ATTACH;FMTTYPE=image/png:https://www.sentierisciamanici.it/wp-content/uploads/2026/03/Per-info-e-prenotazioni-Alessia-327-599-2146-3.png
END:VEVENT
BEGIN:VEVENT
DTSTART;TZID=Europe/Rome:20260316T204500
DTEND;TZID=Europe/Rome:20260316T230000
DTSTAMP:20260423T211351
CREATED:20260224T090659Z
LAST-MODIFIED:20260305T083931Z
UID:1757-1773693900-1773702000@www.sentierisciamanici.it
SUMMARY:VIAGGIO SONORO
DESCRIPTION:Una meditazione attraverso vibrazioni e suoni armonici per rilassare la mente\, riequilibrare il corpo e ritrovare il proprio centro.Durante la serata\, l’associazione Casaruota presenterà il percorso dell’Accademia di Arti Sciamaniche Integrate e i prossimi eventi in programma:Costellazioni OniricheGuarire le FeriteLa Maschera e il VoltoPrenotazione consigliata al 327 5992146 (Alessia)
URL:https://www.sentierisciamanici.it/evento/viaggio-sonoro/
LOCATION:Natura Maestra\, Via della Repubblica\, 81\, Poggibonsi\, Italia\, Italy
CATEGORIES:Il Risveglio interiore
ATTACH;FMTTYPE=image/png:https://www.sentierisciamanici.it/wp-content/uploads/2026/02/meditazione-sonora-Poggibonsi.png
END:VEVENT
BEGIN:VEVENT
DTSTART;TZID=Europe/Rome:20260325T203000
DTEND;TZID=Europe/Rome:20260325T230000
DTSTAMP:20260423T211351
CREATED:20260305T083719Z
LAST-MODIFIED:20260305T083721Z
UID:1801-1774470600-1774479600@www.sentierisciamanici.it
SUMMARY:VIAGGIO SCIAMANICO - I portali del tempo. Secondo viaggio: OSTARA. Il seme del risveglio
DESCRIPTION:“Se vuoi qualcosa che non hai\, devi fare qualcosa che non hai mai fatto prima.”Semina intenzioni come fossero sacri semi. Rinnova le energie\, purifica la tua vita interiore. Elimina ciò che l’inverno ha seccato: la luce vuole nascere!Un ciclo di Viaggi Sciamanici dedicati ai Portali della Ruota del Tempo e alla loro eredità spirituale nell’Antica Europa. Ogni incontro esplorerà uno dei grandi temi dell’esperienza umana: lavoro e collocazione sociale\, relazioni e affetti\, progetti e sogni\, Antenati ed eredità.Attraverso la formulazione di un intento personale\, i partecipanti intraprenderanno il proprio Viaggio\, interrogando Spiriti e Guide sulle energie in movimento\, sugli ostacoli e sui punti di forza da sviluppare.La serata si concluderà con un momento di condivisione e con l’estrazione di una carta personale\, a sostegno del tema emerso e dell’atteggiamento necessario alla sua realizzazione.Evento con contributo. Posti limitati\, è gradita la prenotazione al 338 4548598 (Monica Cuore in Viaggio)
URL:https://www.sentierisciamanici.it/evento/viaggio-sciamanico-i-portali-del-tempo-secondo-viaggio-ostara-il-seme-del-risveglio/
LOCATION:Studio Olistico La porta del Cuore\, Via Martiri del Padule 50\, Lamporecchio\, Italy
CATEGORIES:Il Risveglio interiore
ATTACH;FMTTYPE=image/png:https://www.sentierisciamanici.it/wp-content/uploads/2026/03/Viaggi-Sciamanici-la-porta-del-Cuore-Ostara.png
END:VEVENT
BEGIN:VEVENT
DTSTART;TZID=Europe/Rome:20260411T153000
DTEND;TZID=Europe/Rome:20260411T170000
DTSTAMP:20260423T211351
CREATED:20260303T093313Z
LAST-MODIFIED:20260305T084148Z
UID:1777-1775921400-1775926800@www.sentierisciamanici.it
SUMMARY:Viaggio Sciamanico
DESCRIPTION:Stai attraversando un momento di incertezza? Ti trovi a un bivio e senti il richiamo di qualcosa di nuovo?Il Viaggio Sciamanico\, Sacro Rito guidato dal suono del tamburo\, conduce in uno stato meditativo profondo dove incontrare gli Alleati Animali e ricevere messaggi di chiarezza e orientamento per il tuo cammino. \n\n\n\nPartecipa al viaggio. Ascolta il richiamo.Per informazioni e prenotazioni: Valentina 347 9336271\, Silia 340 663 1798
URL:https://www.sentierisciamanici.it/evento/viaggio-sciamanico-2/
LOCATION:Via Oscar Ghiglia 353\, Via Oscar Ghiglia 353\, Roma\, Italia\, Italy
CATEGORIES:Il Risveglio interiore
ATTACH;FMTTYPE=image/png:https://www.sentierisciamanici.it/wp-content/uploads/2026/03/Viaggio-Sciamanico-Roma.png
END:VEVENT
BEGIN:VEVENT
DTSTART;TZID=Europe/Rome:20260412T093000
DTEND;TZID=Europe/Rome:20260412T183000
DTSTAMP:20260423T211351
CREATED:20260303T092927Z
LAST-MODIFIED:20260305T084045Z
UID:1772-1775986200-1776018600@www.sentierisciamanici.it
SUMMARY:GUARIRE LE FERITE
DESCRIPTION:Ogni essere umano conserva nel suo cuore delle Ferite; alcune sono recenti\, altre molto antiche\, alcune di esse vengono da così lontano che ne abbiamo perso il ricordo. Ogni Ferita è unica e personale perché il modo in cui viene vissuta è unico e personale\, ma allo stesso tempo richiama le Ferite Ancestrali che sono state inflitte all’umanità nei millenni e che attraversano l’anima di tutte le creature.Guarire le Ferite non solo ci riconcilia con noi stessi e con la nostra storia ma aiuta a lenire anche le ferite di coloro che ci hanno preceduto nel cammino.Attraverso un atto sciamanico-rituale prenderemo coscienza delle nostre Ferite Ancestrali per poi integrarle e armonizzarle nella nostra vita.Il lavoro sarò svolto attraverso la meditazione e l’utilizzo di materiali semplici: tela di cotone o lino bianca/grezza\, colori\, fili di lana e cotone\, bottoni\, pezzi di tessuto\, carta.Per info e prenotazioni: Silia 340 663 1798\, Valentina 347 9336271
URL:https://www.sentierisciamanici.it/evento/guarire-le-ferite/
LOCATION:Via Oscar Ghiglia 353\, Via Oscar Ghiglia 353\, Roma\, Italia\, Italy
CATEGORIES:Il Risveglio interiore
ATTACH;FMTTYPE=image/png:https://www.sentierisciamanici.it/wp-content/uploads/2026/03/Guarire-le-Ferite-Roma.png
END:VEVENT
BEGIN:VEVENT
DTSTART;TZID=Europe/Rome:20260501T100000
DTEND;TZID=Europe/Rome:20260503T150000
DTSTAMP:20260423T211351
CREATED:20260303T092428Z
LAST-MODIFIED:20260303T093715Z
UID:1769-1777629600-1777820400@www.sentierisciamanici.it
SUMMARY:SCUDO DI POTERE - Ritrova e Custodisci la tua Essenza.
DESCRIPTION:Lo Scudo di Potere è un manufatto prezioso che parla di me e di chi mi protegge e mi ama. Realizzato una sola volta nella vita\, attraverso la sua costruzione si ricerca e manifesta la nostra Essenza (Medicina per i nativi)\, grazie al suo riconoscimento da parte del mondo degli Spiriti. Al contempo\, provvede a schermare una tale Essenza dalle intrusioni indesiderate e dall’aggressione di energie ostili\, per mettere al riparo\, e valorizzare\, la parte più profonda e fragile della nostra natura originaria.
URL:https://www.sentierisciamanici.it/evento/scudo-di-potere-ritrova-e-custodisci-la-tua-essenza/
LOCATION:Casaruota\, Via di S.Pellegrino\, 429\, Firenzuola\, Italy\, Italy
CATEGORIES:Il Risveglio interiore
ATTACH;FMTTYPE=image/png:https://www.sentierisciamanici.it/wp-content/uploads/2026/03/scudo-di-potere-casaruota-2026.png
END:VEVENT
BEGIN:VEVENT
DTSTART;TZID=Europe/Rome:20260523T143000
DTEND;TZID=Europe/Rome:20260524T150000
DTSTAMP:20260423T211351
CREATED:20260303T091959Z
LAST-MODIFIED:20260303T093614Z
UID:1766-1779546600-1779634800@www.sentierisciamanici.it
SUMMARY:Capanna del Sudore
DESCRIPTION:La Capanna Sudatoria (Inipi) è un antico rito di purificazione e rigenerazione. Entrare nello spazio sacro\, seduti in cerchio attorno alle pietre incandescenti\, richiama simbolicamente il ritorno all’utero della Madre Terra. \n\n\n\nL’azione rituale favorisce\, attraverso il calore ed il sudore\, la liberazione delle tossine\, il riequilibrio dell’energia vitale e una profonda riconnessione con sé stessi\, gli altri e l’anima del mondo.L’evento potrebbe essere annullato in caso di condizioni meteo avverse.
URL:https://www.sentierisciamanici.it/evento/capanna-del-sudore/
LOCATION:Casaruota\, Via di S.Pellegrino\, 429\, Firenzuola\, Italy\, Italy
CATEGORIES:La Capanna del Sacro Sudore
ATTACH;FMTTYPE=image/jpeg:https://www.sentierisciamanici.it/wp-content/uploads/2026/03/capanna-del-Sudore-ottobre-2025.jpg
END:VEVENT
END:VCALENDAR